BEGIN:VCALENDAR
VERSION:2.0
PRODID:-//Brown &amp; Brown - ECPv6.15.17//NONSGML v1.0//EN
CALSCALE:GREGORIAN
METHOD:PUBLISH
X-WR-CALNAME:Brown &amp; Brown
X-ORIGINAL-URL:https://uk.bbrowndev.com
X-WR-CALDESC:Events for Brown &amp; Brown
REFRESH-INTERVAL;VALUE=DURATION:PT1H
X-Robots-Tag:noindex
X-PUBLISHED-TTL:PT1H
BEGIN:VTIMEZONE
TZID:Europe/London
BEGIN:DAYLIGHT
TZOFFSETFROM:+0000
TZOFFSETTO:+0100
TZNAME:BST
DTSTART:20250330T010000
END:DAYLIGHT
BEGIN:STANDARD
TZOFFSETFROM:+0100
TZOFFSETTO:+0000
TZNAME:GMT
DTSTART:20251026T010000
END:STANDARD
BEGIN:DAYLIGHT
TZOFFSETFROM:+0000
TZOFFSETTO:+0100
TZNAME:BST
DTSTART:20260329T010000
END:DAYLIGHT
BEGIN:STANDARD
TZOFFSETFROM:+0100
TZOFFSETTO:+0000
TZNAME:GMT
DTSTART:20261025T010000
END:STANDARD
BEGIN:DAYLIGHT
TZOFFSETFROM:+0000
TZOFFSETTO:+0100
TZNAME:BST
DTSTART:20270328T010000
END:DAYLIGHT
BEGIN:STANDARD
TZOFFSETFROM:+0100
TZOFFSETTO:+0000
TZNAME:GMT
DTSTART:20271031T010000
END:STANDARD
END:VTIMEZONE
BEGIN:VEVENT
DTSTART;VALUE=DATE:20260211
DTEND;VALUE=DATE:20260212
DTSTAMP:20260421T082432
CREATED:20260130T114736Z
LAST-MODIFIED:20260130T161709Z
UID:10000648-1770768000-1770854399@uk.bbrowndev.com
SUMMARY:The Right Mortgage (TRM) Regional Roadshow
DESCRIPTION:Roundtable & Exhibition Stand for TRM Network Members.
URL:https://uk.bbrowndev.com/event/the-right-mortgage-trm-regional-roadshow-5/
LOCATION:Wynyard Hall\, Wynyard\, Stockton-on-Tees TS22 5NF\, Wynyard Hall\, Wynyard\, Stockton-on-Tees\, TS22 5NF\, United Kingdom
ATTACH;FMTTYPE=image/jpeg:https://uk.bbrowndev.com/wp-content/uploads/2026/01/AdobeStock_273391670-1.jpeg
END:VEVENT
END:VCALENDAR