BEGIN:VCALENDAR
VERSION:2.0
PRODID:-//Brown &amp; Brown - ECPv6.15.17//NONSGML v1.0//EN
CALSCALE:GREGORIAN
METHOD:PUBLISH
X-WR-CALNAME:Brown &amp; Brown
X-ORIGINAL-URL:https://uk.bbrowndev.com
X-WR-CALDESC:Events for Brown &amp; Brown
REFRESH-INTERVAL;VALUE=DURATION:PT1H
X-Robots-Tag:noindex
X-PUBLISHED-TTL:PT1H
BEGIN:VTIMEZONE
TZID:Europe/London
BEGIN:DAYLIGHT
TZOFFSETFROM:+0000
TZOFFSETTO:+0100
TZNAME:BST
DTSTART:20250330T010000
END:DAYLIGHT
BEGIN:STANDARD
TZOFFSETFROM:+0100
TZOFFSETTO:+0000
TZNAME:GMT
DTSTART:20251026T010000
END:STANDARD
BEGIN:DAYLIGHT
TZOFFSETFROM:+0000
TZOFFSETTO:+0100
TZNAME:BST
DTSTART:20260329T010000
END:DAYLIGHT
BEGIN:STANDARD
TZOFFSETFROM:+0100
TZOFFSETTO:+0000
TZNAME:GMT
DTSTART:20261025T010000
END:STANDARD
BEGIN:DAYLIGHT
TZOFFSETFROM:+0000
TZOFFSETTO:+0100
TZNAME:BST
DTSTART:20270328T010000
END:DAYLIGHT
BEGIN:STANDARD
TZOFFSETFROM:+0100
TZOFFSETTO:+0000
TZNAME:GMT
DTSTART:20271031T010000
END:STANDARD
END:VTIMEZONE
BEGIN:VEVENT
DTSTART;VALUE=DATE:20260426
DTEND;VALUE=DATE:20260428
DTSTAMP:20260419T093346
CREATED:20260304T150811Z
LAST-MODIFIED:20260304T152917Z
UID:10000660-1777161600-1777334399@uk.bbrowndev.com
SUMMARY:SightCare National Conference
DESCRIPTION:SightCare National Conference at Edgbaston Stadium in Birmingham.
URL:https://uk.bbrowndev.com/event/sightcare-national-conference/
LOCATION:Edgbaston Stadium\, Birmingham\, Birmingham\, United Kingdom
ATTACH;FMTTYPE=image/png:https://uk.bbrowndev.com/wp-content/uploads/2026/03/SightCare-Conference-2026-1.png
END:VEVENT
END:VCALENDAR