BEGIN:VCALENDAR
VERSION:2.0
PRODID:-//Brown &amp; Brown - ECPv6.15.17//NONSGML v1.0//EN
CALSCALE:GREGORIAN
METHOD:PUBLISH
X-WR-CALNAME:Brown &amp; Brown
X-ORIGINAL-URL:https://uk.bbrowndev.com
X-WR-CALDESC:Events for Brown &amp; Brown
REFRESH-INTERVAL;VALUE=DURATION:PT1H
X-Robots-Tag:noindex
X-PUBLISHED-TTL:PT1H
BEGIN:VTIMEZONE
TZID:Europe/London
BEGIN:DAYLIGHT
TZOFFSETFROM:+0000
TZOFFSETTO:+0100
TZNAME:BST
DTSTART:20250330T010000
END:DAYLIGHT
BEGIN:STANDARD
TZOFFSETFROM:+0100
TZOFFSETTO:+0000
TZNAME:GMT
DTSTART:20251026T010000
END:STANDARD
BEGIN:DAYLIGHT
TZOFFSETFROM:+0000
TZOFFSETTO:+0100
TZNAME:BST
DTSTART:20260329T010000
END:DAYLIGHT
BEGIN:STANDARD
TZOFFSETFROM:+0100
TZOFFSETTO:+0000
TZNAME:GMT
DTSTART:20261025T010000
END:STANDARD
BEGIN:DAYLIGHT
TZOFFSETFROM:+0000
TZOFFSETTO:+0100
TZNAME:BST
DTSTART:20270328T010000
END:DAYLIGHT
BEGIN:STANDARD
TZOFFSETFROM:+0100
TZOFFSETTO:+0000
TZNAME:GMT
DTSTART:20271031T010000
END:STANDARD
END:VTIMEZONE
BEGIN:VEVENT
DTSTART;VALUE=DATE:20260513
DTEND;VALUE=DATE:20260515
DTSTAMP:20260419T123730
CREATED:20260121T115348Z
LAST-MODIFIED:20260121T115348Z
UID:10000637-1778630400-1778803199@uk.bbrowndev.com
SUMMARY:BIBA Conference 2026
DESCRIPTION:Join the Brown & Brown team at the BIBA Conference in Manchester; the world’s largest insurance broking event. \nVisit the event website for more information: https://thebibaconference.org.uk/
URL:https://uk.bbrowndev.com/event/biba-conference-2026/
LOCATION:Manchester Central Convention Complex\, Manchester Central Convention Complex\, Manchester\, M2 3GX\, United Kingdom
ATTACH;FMTTYPE=image/jpeg:https://uk.bbrowndev.com/wp-content/uploads/2026/01/AdobeStock_273391670.jpeg
END:VEVENT
BEGIN:VEVENT
DTSTART;VALUE=DATE:20260514
DTEND;VALUE=DATE:20260516
DTSTAMP:20260419T123730
CREATED:20260121T122755Z
LAST-MODIFIED:20260121T131550Z
UID:10000638-1778716800-1778889599@uk.bbrowndev.com
SUMMARY:PHTM Taxi Expo
DESCRIPTION:The Brown & Brown Taxi team will once again be attending the PHTM Expo in Milton Keynes. \nMeet us at the event to find out how we can support you along your growth journey to help find solutions that meet your ever-evolving insurance needs. \nVisit the event website for more information: https://www.phtm.co.uk/
URL:https://uk.bbrowndev.com/event/phtm-taxi-expo/
LOCATION:Arena MK\, Stadium Way W\, Bletchley\, Milton Keynes\, MK1 1ST\, United Kingdom
ATTACH;FMTTYPE=image/jpeg:https://uk.bbrowndev.com/wp-content/uploads/2026/01/taxi-phtm-expo-scaled.jpg
END:VEVENT
BEGIN:VEVENT
DTSTART;TZID=Europe/London:20260514T100000
DTEND;TZID=Europe/London:20260514T140000
DTSTAMP:20260419T123730
CREATED:20260128T161622Z
LAST-MODIFIED:20260129T092227Z
UID:10000641-1778752800-1778767200@uk.bbrowndev.com
SUMMARY:Bristol Business Expo
DESCRIPTION:Network openly with hundreds of professionals from across Bristol at the city’s largest business show\, as well as attending free seminars and workshops from leading keynote and business speakers. \nMeet us at this FREE event to find out how we can support you along your growth journey to help find solutions that meet your ever-evolving insurance needs. \nVisit the event website for more information: https://www.b2bexpos.co.uk/event/bristol-expo-may-2026
URL:https://uk.bbrowndev.com/event/bristol-business-expo/
LOCATION:BAWA Conference Centre\, BAWA Conference Centre\, 589 Southmead Road\, Filton\, Bristol\, BS34 7RG
ATTACH;FMTTYPE=image/jpeg:https://uk.bbrowndev.com/wp-content/uploads/2026/01/AdobeStock_238886031-scaled.jpeg
END:VEVENT
END:VCALENDAR