BEGIN:VCALENDAR
VERSION:2.0
PRODID:-//Brown &amp; Brown - ECPv6.15.17//NONSGML v1.0//EN
CALSCALE:GREGORIAN
METHOD:PUBLISH
X-WR-CALNAME:Brown &amp; Brown
X-ORIGINAL-URL:https://uk.bbrowndev.com
X-WR-CALDESC:Events for Brown &amp; Brown
REFRESH-INTERVAL;VALUE=DURATION:PT1H
X-Robots-Tag:noindex
X-PUBLISHED-TTL:PT1H
BEGIN:VTIMEZONE
TZID:Europe/London
BEGIN:DAYLIGHT
TZOFFSETFROM:+0000
TZOFFSETTO:+0100
TZNAME:BST
DTSTART:20250330T010000
END:DAYLIGHT
BEGIN:STANDARD
TZOFFSETFROM:+0100
TZOFFSETTO:+0000
TZNAME:GMT
DTSTART:20251026T010000
END:STANDARD
BEGIN:DAYLIGHT
TZOFFSETFROM:+0000
TZOFFSETTO:+0100
TZNAME:BST
DTSTART:20260329T010000
END:DAYLIGHT
BEGIN:STANDARD
TZOFFSETFROM:+0100
TZOFFSETTO:+0000
TZNAME:GMT
DTSTART:20261025T010000
END:STANDARD
BEGIN:DAYLIGHT
TZOFFSETFROM:+0000
TZOFFSETTO:+0100
TZNAME:BST
DTSTART:20270328T010000
END:DAYLIGHT
BEGIN:STANDARD
TZOFFSETFROM:+0100
TZOFFSETTO:+0000
TZNAME:GMT
DTSTART:20271031T010000
END:STANDARD
END:VTIMEZONE
BEGIN:VEVENT
DTSTART;VALUE=DATE:20260210
DTEND;VALUE=DATE:20260211
DTSTAMP:20260419T232720
CREATED:20260130T113759Z
LAST-MODIFIED:20260130T161701Z
UID:10000647-1770681600-1770767999@uk.bbrowndev.com
SUMMARY:The Right Mortgage (TRM) Regional Roadshow
DESCRIPTION:Roundtable & Exhibition Stand for TRM Network Members.
URL:https://uk.bbrowndev.com/event/the-right-mortgage-trm-regional-roadshow-4/
LOCATION:Oulton Hall\, Rothwell Lane\, Oulton\, Leeds\, LS26 8HN\, Oulton Hall\, Rothwell Lane\, Oulton\, Leeds\, LS26 8HN\, United Kingdom
ATTACH;FMTTYPE=image/png:https://uk.bbrowndev.com/wp-content/uploads/2026/01/Untitled-1-business-conference-scaled.png
END:VEVENT
BEGIN:VEVENT
DTSTART;VALUE=DATE:20260205
DTEND;VALUE=DATE:20260206
DTSTAMP:20260419T232720
CREATED:20260130T113257Z
LAST-MODIFIED:20260130T161556Z
UID:10000646-1770249600-1770335999@uk.bbrowndev.com
SUMMARY:The Right Mortgage (TRM) Regional Roadshow
DESCRIPTION:Roundtable & Exhibition Stand for TRM Network Members.
URL:https://uk.bbrowndev.com/event/the-right-mortgage-trm-regional-roadshow-3/
LOCATION:The Celtic Manor Resort\, Coldra Wood\, Chepstow Road\, Newport\, NP18 1HQ\, The Celtic Manor Resort\, Coldra Wood\, Chepstow Road\, Newport\, NP18 1HQ\, United Kingdom
ATTACH;FMTTYPE=image/jpeg:https://uk.bbrowndev.com/wp-content/uploads/2026/01/AdobeStock_175466970-scaled.jpeg
END:VEVENT
BEGIN:VEVENT
DTSTART;VALUE=DATE:20260204
DTEND;VALUE=DATE:20260205
DTSTAMP:20260419T232720
CREATED:20260130T110426Z
LAST-MODIFIED:20260130T161554Z
UID:10000645-1770163200-1770249599@uk.bbrowndev.com
SUMMARY:The Right Mortgage (TRM) Regional Roadshow
DESCRIPTION:Roundtable & Exhibition Stand for TRM Network Members.
URL:https://uk.bbrowndev.com/event/the-right-mortgage-trm-regional-roadshow-2/
LOCATION:Hogarths Hotel\, Four Ashes Road\, Dorridge\, Solihull\, B93 8QE\, Hogarths Hotel\, Four Ashes Road\, Dorridge\, Solihull\, B93 8QE\, United Kingdom
ATTACH;FMTTYPE=image/jpeg:https://uk.bbrowndev.com/wp-content/uploads/2026/01/AdobeStock_386446626.jpeg
END:VEVENT
BEGIN:VEVENT
DTSTART;VALUE=DATE:20260203
DTEND;VALUE=DATE:20260206
DTSTAMP:20260419T232720
CREATED:20260120T110014Z
LAST-MODIFIED:20260120T130600Z
UID:10000630-1770076800-1770335999@uk.bbrowndev.com
SUMMARY:SPATEX 2026
DESCRIPTION:Join our specialist team at the UK’s only water leisure exhibition\, which is returning for the 30th anniversary from Tuesday 3rd to Thursday 5th February 2026. \nAt Brown & Brown we have over 30 years experience of arranging insurance coverage for companies in the Wet Leisure Industry working with SPATA and BISHTA to help you build protection for the risks associated with the activities of your unique sector. \nWe understand the risks associated with the Wet leisure industry and provide insurance solutions tailored to the needs of the industry. Whether you are designing ‘high-end’ pools\, allow wet testing in your showroom or a contractor undertaking sub aqua work\, we can help. \nVisit the Spatex website for more information and to register for your free ticket: https://www.spatex.co.uk/
URL:https://uk.bbrowndev.com/event/spatex-2026/
LOCATION:Coventry Building Society Arena\,  Coventry\, CV6 6GE\, Coventry Building Society Arena\, Coventry\, CV6 6GE\, United Kingdom
ATTACH;FMTTYPE=image/jpeg:https://uk.bbrowndev.com/wp-content/uploads/2026/01/spatex-2026-pool-scaled.jpg
END:VEVENT
BEGIN:VEVENT
DTSTART;VALUE=DATE:20260203
DTEND;VALUE=DATE:20260204
DTSTAMP:20260419T232720
CREATED:20260129T123430Z
LAST-MODIFIED:20260130T145759Z
UID:10000644-1770076800-1770163199@uk.bbrowndev.com
SUMMARY:The Right Mortgage (TRM) Regional Roadshow
DESCRIPTION:Roundtable & Exhibition Stand for TRM Network Members.
URL:https://uk.bbrowndev.com/event/the-right-mortgage-trm-regional-roadshow/
LOCATION:Brandshatch Place Hotel & Spa\, Brands Hatch Rd\, Longfield DA3 8NQ\, Brandshatch Place Hotel & Spa\, Brands Hatch Rd\, Longfield\, DA3 8NQ\, United Kingdom
ATTACH;FMTTYPE=image/jpeg:https://uk.bbrowndev.com/wp-content/uploads/2026/01/AdobeStock_209439761-scaled.jpeg
END:VEVENT
END:VCALENDAR